BEGIN:VCALENDAR
VERSION:2.0
PRODID:-//Betsy Woodman - ECPv6.15.20//NONSGML v1.0//EN
CALSCALE:GREGORIAN
METHOD:PUBLISH
X-ORIGINAL-URL:https://www.betsywoodman.com
X-WR-CALDESC:Events for Betsy Woodman
REFRESH-INTERVAL;VALUE=DURATION:PT1H
X-Robots-Tag:noindex
X-PUBLISHED-TTL:PT1H
BEGIN:VTIMEZONE
TZID:America/New_York
BEGIN:DAYLIGHT
TZOFFSETFROM:-0500
TZOFFSETTO:-0400
TZNAME:EDT
DTSTART:20170312T070000
END:DAYLIGHT
BEGIN:STANDARD
TZOFFSETFROM:-0400
TZOFFSETTO:-0500
TZNAME:EST
DTSTART:20171105T060000
END:STANDARD
BEGIN:DAYLIGHT
TZOFFSETFROM:-0500
TZOFFSETTO:-0400
TZNAME:EDT
DTSTART:20180311T070000
END:DAYLIGHT
BEGIN:STANDARD
TZOFFSETFROM:-0400
TZOFFSETTO:-0500
TZNAME:EST
DTSTART:20181104T060000
END:STANDARD
BEGIN:DAYLIGHT
TZOFFSETFROM:-0500
TZOFFSETTO:-0400
TZNAME:EDT
DTSTART:20190310T070000
END:DAYLIGHT
BEGIN:STANDARD
TZOFFSETFROM:-0400
TZOFFSETTO:-0500
TZNAME:EST
DTSTART:20191103T060000
END:STANDARD
END:VTIMEZONE
BEGIN:VEVENT
DTSTART;TZID=America/New_York:20180506T110000
DTEND;TZID=America/New_York:20180506T120000
DTSTAMP:20260424T202312
CREATED:20170719T205448Z
LAST-MODIFIED:20180407T010133Z
UID:3387-1525604400-1525608000@www.betsywoodman.com
SUMMARY:Kearsarge Unitarian-Universalist Fellowship
DESCRIPTION:Delighted to be the guest speaker at the Kearsarge Unitarian-Universalist Fellowship on May 6\, 2018\, at 11:00 AM. Topic? LYTENUP and HUGACAT. \nIs the New Yorker cartoon caption contest a spiritual discipline? What are the messages of vanity license plates? Sometimes goofy little things help us keep on truckin’.\n\nThe service is at the beautiful Stone Chapel on Rte 11/4 in Andover\, NH. All are welcome.
URL:https://www.betsywoodman.com/events/kearsarge-unitarian-universalist-fellowship-7/
LOCATION:Kearsarge Unitarian Universalist Fellowship\, Stone Chapel\, Proctor Academy\, Andover\, NH\, 03216\, United States
ORGANIZER;CN="KUUF":MAILTO:kuufnh@yahoo.com
END:VEVENT
END:VCALENDAR