BEGIN:VCALENDAR
VERSION:2.0
PRODID:-//Betsy Woodman - ECPv6.15.20//NONSGML v1.0//EN
CALSCALE:GREGORIAN
METHOD:PUBLISH
X-WR-CALNAME:Betsy Woodman
X-ORIGINAL-URL:https://www.betsywoodman.com
X-WR-CALDESC:Events for Betsy Woodman
REFRESH-INTERVAL;VALUE=DURATION:PT1H
X-Robots-Tag:noindex
X-PUBLISHED-TTL:PT1H
BEGIN:VTIMEZONE
TZID:America/New_York
BEGIN:DAYLIGHT
TZOFFSETFROM:-0500
TZOFFSETTO:-0400
TZNAME:EDT
DTSTART:20180311T070000
END:DAYLIGHT
BEGIN:STANDARD
TZOFFSETFROM:-0400
TZOFFSETTO:-0500
TZNAME:EST
DTSTART:20181104T060000
END:STANDARD
BEGIN:DAYLIGHT
TZOFFSETFROM:-0500
TZOFFSETTO:-0400
TZNAME:EDT
DTSTART:20190310T070000
END:DAYLIGHT
BEGIN:STANDARD
TZOFFSETFROM:-0400
TZOFFSETTO:-0500
TZNAME:EST
DTSTART:20191103T060000
END:STANDARD
BEGIN:DAYLIGHT
TZOFFSETFROM:-0500
TZOFFSETTO:-0400
TZNAME:EDT
DTSTART:20200308T070000
END:DAYLIGHT
BEGIN:STANDARD
TZOFFSETFROM:-0400
TZOFFSETTO:-0500
TZNAME:EST
DTSTART:20201101T060000
END:STANDARD
END:VTIMEZONE
BEGIN:VEVENT
DTSTART;TZID=America/New_York:20190414T110000
DTEND;TZID=America/New_York:20190414T123000
DTSTAMP:20260424T005204
CREATED:20181007T010728Z
LAST-MODIFIED:20190412T125240Z
UID:3616-1555239600-1555245000@www.betsywoodman.com
SUMMARY:Kearsarge Unitarian-Universalist Fellowship
DESCRIPTION:Thank you to KUUF for inviting me to speak on April 14\, 2019\, at 11:00 AM.  The service is at the Stone Chapel on the Proctor Academy campus\, Rte 11/4 in Andover\, NH. All are welcome. \n \nTopic:  “Hi\, My Victim. Funny and Unfunny Scams” \nMost of us get a flood of scam emails and phone calls\, some of them so absurd they’re hilarious. They issue impossible promises and sinister threats\, preying on greed\, fear\, guilt–and also on some of our virtues. Some musings on the fascination of schemes and scoundrels.
URL:https://www.betsywoodman.com/events/kearsarge-unitarian-universalist-fellowship-11/
LOCATION:Kearsarge Unitarian Universalist Fellowship\, Stone Chapel\, Proctor Academy\, Andover\, NH\, 03216\, United States
END:VEVENT
END:VCALENDAR