BEGIN:VCALENDAR
VERSION:2.0
PRODID:-//Betsy Woodman - ECPv6.15.20//NONSGML v1.0//EN
CALSCALE:GREGORIAN
METHOD:PUBLISH
X-ORIGINAL-URL:https://www.betsywoodman.com
X-WR-CALDESC:Events for Betsy Woodman
REFRESH-INTERVAL;VALUE=DURATION:PT1H
X-Robots-Tag:noindex
X-PUBLISHED-TTL:PT1H
BEGIN:VTIMEZONE
TZID:America/New_York
BEGIN:DAYLIGHT
TZOFFSETFROM:-0500
TZOFFSETTO:-0400
TZNAME:EDT
DTSTART:20180311T070000
END:DAYLIGHT
BEGIN:STANDARD
TZOFFSETFROM:-0400
TZOFFSETTO:-0500
TZNAME:EST
DTSTART:20181104T060000
END:STANDARD
BEGIN:DAYLIGHT
TZOFFSETFROM:-0500
TZOFFSETTO:-0400
TZNAME:EDT
DTSTART:20190310T070000
END:DAYLIGHT
BEGIN:STANDARD
TZOFFSETFROM:-0400
TZOFFSETTO:-0500
TZNAME:EST
DTSTART:20191103T060000
END:STANDARD
BEGIN:DAYLIGHT
TZOFFSETFROM:-0500
TZOFFSETTO:-0400
TZNAME:EDT
DTSTART:20200308T070000
END:DAYLIGHT
BEGIN:STANDARD
TZOFFSETFROM:-0400
TZOFFSETTO:-0500
TZNAME:EST
DTSTART:20201101T060000
END:STANDARD
END:VTIMEZONE
BEGIN:VEVENT
DTSTART;TZID=America/New_York:20191013T110000
DTEND;TZID=America/New_York:20191013T120000
DTSTAMP:20260423T143552
CREATED:20190911T211139Z
LAST-MODIFIED:20191007T135356Z
UID:3757-1570964400-1570968000@www.betsywoodman.com
SUMMARY:Kearsarge Unitarian-Universalist Fellowship
DESCRIPTION:Thank you to the kind folks at Kearsarge UU Fellowship for inviting me back to talk\, October 13\, 11:00 AM. \n \nTitle: Why Do We Love the Dark Side?\nMurder\, mayhem\, betrayal\, conflict\, crime\, catastrophe…they’ve been staples of drama for millennia and dominate the news today. Why are the bad guys so fascinating?
URL:https://www.betsywoodman.com/events/kearsarge-unitarian-universalist-fellowship-14/
LOCATION:Kearsarge Unitarian Universalist Fellowship\, Stone Chapel\, Proctor Academy\, Andover\, NH\, 03216\, United States
ORGANIZER;CN="KUUF":MAILTO:kuufnh@yahoo.com
END:VEVENT
END:VCALENDAR