BEGIN:VCALENDAR
VERSION:2.0
PRODID:-//Betsy Woodman - ECPv6.15.20//NONSGML v1.0//EN
CALSCALE:GREGORIAN
METHOD:PUBLISH
X-WR-CALNAME:Betsy Woodman
X-ORIGINAL-URL:https://www.betsywoodman.com
X-WR-CALDESC:Events for Betsy Woodman
REFRESH-INTERVAL;VALUE=DURATION:PT1H
X-Robots-Tag:noindex
X-PUBLISHED-TTL:PT1H
BEGIN:VTIMEZONE
TZID:America/New_York
BEGIN:DAYLIGHT
TZOFFSETFROM:-0500
TZOFFSETTO:-0400
TZNAME:EDT
DTSTART:20190310T070000
END:DAYLIGHT
BEGIN:STANDARD
TZOFFSETFROM:-0400
TZOFFSETTO:-0500
TZNAME:EST
DTSTART:20191103T060000
END:STANDARD
BEGIN:DAYLIGHT
TZOFFSETFROM:-0500
TZOFFSETTO:-0400
TZNAME:EDT
DTSTART:20200308T070000
END:DAYLIGHT
BEGIN:STANDARD
TZOFFSETFROM:-0400
TZOFFSETTO:-0500
TZNAME:EST
DTSTART:20201101T060000
END:STANDARD
BEGIN:DAYLIGHT
TZOFFSETFROM:-0500
TZOFFSETTO:-0400
TZNAME:EDT
DTSTART:20210314T070000
END:DAYLIGHT
BEGIN:STANDARD
TZOFFSETFROM:-0400
TZOFFSETTO:-0500
TZNAME:EST
DTSTART:20211107T060000
END:STANDARD
END:VTIMEZONE
BEGIN:VEVENT
DTSTART;TZID=America/New_York:20200920T110000
DTEND;TZID=America/New_York:20200920T120000
DTSTAMP:20260422T200929
CREATED:20200805T190115Z
LAST-MODIFIED:20200805T190115Z
UID:4074-1600599600-1600603200@www.betsywoodman.com
SUMMARY:Kearsarge Unitarian-Universalist Fellowship
DESCRIPTION:Foremothers: They Stomped Right Down to Washington and Chained Themselves to the White House Fence \n  \n 
URL:https://www.betsywoodman.com/events/kearsarge-unitarian-universalist-fellowship-17/
LOCATION:Kearsarge Unitarian Universalist Fellowship\, Stone Chapel\, Proctor Academy\, Andover\, NH\, 03216\, United States
ORGANIZER;CN="KUUF":MAILTO:kuufnh@yahoo.com
END:VEVENT
END:VCALENDAR