BEGIN:VCALENDAR
VERSION:2.0
PRODID:-//Betsy Woodman - ECPv6.15.20//NONSGML v1.0//EN
CALSCALE:GREGORIAN
METHOD:PUBLISH
X-ORIGINAL-URL:https://www.betsywoodman.com
X-WR-CALDESC:Events for Betsy Woodman
REFRESH-INTERVAL;VALUE=DURATION:PT1H
X-Robots-Tag:noindex
X-PUBLISHED-TTL:PT1H
BEGIN:VTIMEZONE
TZID:America/New_York
BEGIN:DAYLIGHT
TZOFFSETFROM:-0500
TZOFFSETTO:-0400
TZNAME:EDT
DTSTART:20210314T070000
END:DAYLIGHT
BEGIN:STANDARD
TZOFFSETFROM:-0400
TZOFFSETTO:-0500
TZNAME:EST
DTSTART:20211107T060000
END:STANDARD
BEGIN:DAYLIGHT
TZOFFSETFROM:-0500
TZOFFSETTO:-0400
TZNAME:EDT
DTSTART:20220313T070000
END:DAYLIGHT
BEGIN:STANDARD
TZOFFSETFROM:-0400
TZOFFSETTO:-0500
TZNAME:EST
DTSTART:20221106T060000
END:STANDARD
BEGIN:DAYLIGHT
TZOFFSETFROM:-0500
TZOFFSETTO:-0400
TZNAME:EDT
DTSTART:20230312T070000
END:DAYLIGHT
BEGIN:STANDARD
TZOFFSETFROM:-0400
TZOFFSETTO:-0500
TZNAME:EST
DTSTART:20231105T060000
END:STANDARD
END:VTIMEZONE
BEGIN:VEVENT
DTSTART;TZID=America/New_York:20220424T110000
DTEND;TZID=America/New_York:20220424T120000
DTSTAMP:20260421T101511
CREATED:20211212T004931Z
LAST-MODIFIED:20220402T235156Z
UID:4178-1650798000-1650801600@www.betsywoodman.com
SUMMARY:Kearsarge Unitarian Universalist Fellowship
DESCRIPTION:Hybrid service at the Stone Chapel\, Andover\, NH\, and on Zoom. \nApril 24\, 2022\,  11:00 AM. \nIf you wish to attend via Zoom\, please send an email to admin@kuufnh.org to receive the link. \nMy talk will also be posted on Youtube after the service. \nTitle: Learning and Unlearning about Money
URL:https://www.betsywoodman.com/events/kearsarge-unitarian-universalist-fellowship-21/
LOCATION:Kearsarge Unitarian Universalist Fellowship\, Stone Chapel\, Proctor Academy\, Andover\, NH\, 03216\, United States
ORGANIZER;CN="KUUF":MAILTO:kuufnh@yahoo.com
END:VEVENT
END:VCALENDAR